BEGIN:VCALENDAR
VERSION:2.0
PRODID:-//Talks.cam//talks.cam.ac.uk//
X-WR-CALNAME:Talks.cam
BEGIN:VEVENT
SUMMARY:Breeding horses: How management influences behaviour\, welfare and
  reproductive success - Mark Kennedy\, Anglia Ruskin University
DTSTART:20080303T163000Z
DTEND:20080303T180000Z
UID:TALK10010@talks.cam.ac.uk
CONTACT:Anthony Podberscek
DESCRIPTION:Abstract not available
LOCATION:Centre for Animal Welfare & Anthrozoology Seminar Room\, Veterina
 ry Medicine\, Department of
END:VEVENT
END:VCALENDAR
