BEGIN:VCALENDAR
VERSION:2.0
PRODID:-//Talks.cam//talks.cam.ac.uk//
X-WR-CALNAME:Talks.cam
BEGIN:VEVENT
SUMMARY:On Classical Tractability of Quantum Schur Sampling - Vojtech Havl
 icek\, University of Oxford
DTSTART:20180208T141500Z
DTEND:20180208T151500Z
UID:TALK100867@talks.cam.ac.uk
CONTACT:Sergii Strelchuk
DESCRIPTION:Abstract not available
LOCATION:MR4\, Centre for Mathematical Sciences\, Wilberforce Road\, Cambr
 idge
END:VEVENT
END:VCALENDAR
