BEGIN:VCALENDAR
VERSION:2.0
PRODID:-//Talks.cam//talks.cam.ac.uk//
X-WR-CALNAME:Talks.cam
BEGIN:VEVENT
SUMMARY:Madingley Lecture: Brexit\, animal health\, welfare\, superbugs an
 d superfarms - John Fishwick\, President of the British Veterinary Associa
 tion
DTSTART:20180308T190000Z
DTEND:20180308T200000Z
UID:TALK101083@talks.cam.ac.uk
CONTACT:Paul Ireland
DESCRIPTION:A public lecture with John Fishwick\, President of the British
  Veterinary Association.\n\nThe European Union has a huge influence on the
  veterinary profession here in the UK. Most of our animal health and welfa
 re legislation comes from the EU and many of our vets and veterinary nurse
 s have trained there. Our likely departure from the EU in March 2019 throw
 s into sharp focus some of the issues facing the profession. In this lectu
 re\, John Fishwick considers some of these challenges\, such as how we mai
 ntain a resilient veterinary workforce\, and how we uphold welfare standar
 ds in both our pet animals and animals kept for food production.\n\n*Advan
 ce booking is recommended as places are limited*\n\n"Book your place onlin
 e":https://www.eventbrite.co.uk/e/madingley-lecture-brexit-animal-health-w
 elfare-superbugs-and-superfarms-tickets-42869441654
LOCATION:Institute of Continuing Education\, Madingley Hall
END:VEVENT
END:VCALENDAR
