BEGIN:VCALENDAR
VERSION:2.0
PRODID:-//Talks.cam//talks.cam.ac.uk//
X-WR-CALNAME:Talks.cam
BEGIN:VEVENT
SUMMARY: Not continuity but change: Stable stage II in Jespersen's Cycle -
   Anne Breitbarth (Cambridge) & Liliane Haegeman (Lille III)
DTSTART:20080318T153000Z
DTEND:20080318T161000Z
UID:TALK10132@talks.cam.ac.uk
CONTACT:Dr Anne Breitbarth
DESCRIPTION:Abstract not available
LOCATION:GR-06/07\, English Faculty Building
END:VEVENT
END:VCALENDAR
