BEGIN:VCALENDAR
VERSION:2.0
PRODID:-//Talks.cam//talks.cam.ac.uk//
X-WR-CALNAME:Talks.cam
BEGIN:VEVENT
SUMMARY: Not in the mood: modality and negation in the history of Greek - 
  Jo Willmott (Cambridge)
DTSTART:20080318T165000Z
DTEND:20080318T173000Z
UID:TALK10134@talks.cam.ac.uk
CONTACT:Dr Anne Breitbarth
DESCRIPTION:Abstract not available
LOCATION:GR-06/07\, English Faculty Building
END:VEVENT
END:VCALENDAR
