BEGIN:VCALENDAR
VERSION:2.0
PRODID:-//Talks.cam//talks.cam.ac.uk//
X-WR-CALNAME:Talks.cam
BEGIN:VEVENT
SUMMARY: Has anything changed at all? - Katrin Axel (Saarbrücken) & Helmu
 t Weiß (Frankfurt/Main)
DTSTART:20080319T111000Z
DTEND:20080319T115000Z
UID:TALK10144@talks.cam.ac.uk
CONTACT:Dr Anne Breitbarth
DESCRIPTION:Abstract not available
LOCATION:GR-05\, English Faculty Building\, West Road
END:VEVENT
END:VCALENDAR
