BEGIN:VCALENDAR
VERSION:2.0
PRODID:-//Talks.cam//talks.cam.ac.uk//
X-WR-CALNAME:Talks.cam
BEGIN:VEVENT
SUMMARY:Continuity and Change in the negation system of the Mordvin langua
 ges - Arja Hamari (Turku)
DTSTART:20080320T092000Z
DTEND:20080320T100000Z
UID:TALK10155@talks.cam.ac.uk
CONTACT:Dr Anne Breitbarth
DESCRIPTION:Abstract not available
LOCATION:GR-06/07\, English Faculty Building
END:VEVENT
END:VCALENDAR
