BEGIN:VCALENDAR
VERSION:2.0
PRODID:-//Talks.cam//talks.cam.ac.uk//
X-WR-CALNAME:Talks.cam
BEGIN:VEVENT
SUMMARY:Genomics Research at EBI: Challenges in Statistical Scaling - Nick
  Goldman (European Bioinformatics Institute\, Cambridge)
DTSTART:20180228T122000Z
DTEND:20180228T125000Z
UID:TALK101632@talks.cam.ac.uk
CONTACT:INI IT
DESCRIPTION:
LOCATION:Seminar Room 1\, Newton Institute
END:VEVENT
END:VCALENDAR
