BEGIN:VCALENDAR
VERSION:2.0
PRODID:-//Talks.cam//talks.cam.ac.uk//
X-WR-CALNAME:Talks.cam
BEGIN:VEVENT
SUMMARY:Big Data Challenges in the Performance of Large IP Networks - Dave
  Yearling (BT Head office)
DTSTART:20180228T153000Z
DTEND:20180228T160000Z
UID:TALK101662@talks.cam.ac.uk
CONTACT:INI IT
DESCRIPTION:
LOCATION:Seminar Room 1\, Newton Institute
END:VEVENT
END:VCALENDAR
