BEGIN:VCALENDAR
VERSION:2.0
PRODID:-//Talks.cam//talks.cam.ac.uk//
X-WR-CALNAME:Talks.cam
BEGIN:VEVENT
SUMMARY:Engineering Safe AI seminar group - Beth Barnes\, Computer Lab\, U
 niversity of Cambridge
DTSTART:20171018T160000Z
DTEND:20171018T173000Z
UID:TALK102175@talks.cam.ac.uk
CONTACT:Adrià Garriga Alonso
DESCRIPTION:Slides: https://valuealignment.ml/talks/2017-10-18-engineering
 -safe-ai.pdf\n\nHow can we design AI systems that reliably act according t
 o the true intent of their users\, even as the capability of the systems i
 ncreases?\n\nThis seminar group will hold weekly discussions that explore 
 the question of AI safety from a technical angle\, discussing papers from 
 OpenAI\, DeepMind\, and academia. The format will be a short presentation 
 of a paper followed by questions and discussion. We’re hoping these meet
 ings will also lead to new research collaborations.\n
LOCATION: Cambridge University Engineering Department\, CBL Seminar room B
 E4-38.  For directions see http://learning.eng.cam.ac.uk/Public/Directions
END:VEVENT
END:VCALENDAR
