BEGIN:VCALENDAR
VERSION:2.0
PRODID:-//Talks.cam//talks.cam.ac.uk//
X-WR-CALNAME:Talks.cam
BEGIN:VEVENT
SUMMARY:Title: A Hard Trade - Presenter: Dr Conor Broderick
DTSTART:20180411T120000Z
DTEND:20180411T123000Z
UID:TALK102595@talks.cam.ac.uk
CONTACT:Vicky Clarke
DESCRIPTION:Specialist Lead: Dr Nigel Burrows\n\nLead Consultant: Dr Marc 
 Wallace\n\nPresenter: Dr Conor Broderick\n\nTitle: A Hard Trade\n\nSpecial
 ty: Dermatology\n
LOCATION:William Harvey Lecture Theatre
END:VEVENT
END:VCALENDAR
