BEGIN:VCALENDAR
VERSION:2.0
PRODID:-//Talks.cam//talks.cam.ac.uk//
X-WR-CALNAME:Talks.cam
BEGIN:VEVENT
SUMMARY:Cells and gels - questions a physicist asks - Professor Athene Don
 ald\, Director\, Physics of Medicine\, Cavendish Laboratory
DTSTART:20080222T091500Z
DTEND:20080222T092500Z
UID:TALK10295@talks.cam.ac.uk
CONTACT:Duncan Simpson
DESCRIPTION:Abstract not available
LOCATION:Sackler Lecture Theatre (Level 7)\, Cambridge Institute for Medic
 al Research
END:VEVENT
END:VCALENDAR
