BEGIN:VCALENDAR
VERSION:2.0
PRODID:-//Talks.cam//talks.cam.ac.uk//
X-WR-CALNAME:Talks.cam
BEGIN:VEVENT
SUMMARY:Challenges for Real World Problem Owners: Materials - Jade Carlott
 a-Jones (BP)
DTSTART:20180314T141500Z
DTEND:20180314T143000Z
UID:TALK102958@talks.cam.ac.uk
CONTACT:INI IT
DESCRIPTION:
LOCATION:Seminar Room 1\, Newton Institute
END:VEVENT
END:VCALENDAR
