BEGIN:VCALENDAR
VERSION:2.0
PRODID:-//Talks.cam//talks.cam.ac.uk//
X-WR-CALNAME:Talks.cam
BEGIN:VEVENT
SUMMARY:Nucleic acid structures - predicting formation and function - Juli
 an Huppert\, Cavendish Laboratory (University of Cambridge)
DTSTART:20080222T102500Z
DTEND:20080222T103500Z
UID:TALK10304@talks.cam.ac.uk
CONTACT:Duncan Simpson
DESCRIPTION:Abstract not available
LOCATION:Sackler Lecture Theatre (Level 7)\, Cambridge Institute for Medic
 al Research
END:VEVENT
END:VCALENDAR
