BEGIN:VCALENDAR
VERSION:2.0
PRODID:-//Talks.cam//talks.cam.ac.uk//
X-WR-CALNAME:Talks.cam
BEGIN:VEVENT
SUMMARY:Inverting the Pareto Boundary: Bayes linear decision support with 
 a soft constraint - Michael Goldstein (Durham University)
DTSTART:20180410T103000Z
DTEND:20180410T110000Z
UID:TALK103585@talks.cam.ac.uk
CONTACT:INI IT
DESCRIPTION:We consider problems of decision support based around computer
  simulators\, where we must take into account a soft constraint on our dec
 ision choices. This leads to the problem of identifying and inverting the 
 Pareto boundary for the decision. We show how Bayes linear methods may be 
 used for this purpose and how the sensitivity of the decision choices may 
 be quantified and explored. The approach is illustrated with a problem on 
 wind farm construction. This is joint work with Hailiang Du.
LOCATION:Seminar Room 1\, Newton Institute
END:VEVENT
END:VCALENDAR
