BEGIN:VCALENDAR
VERSION:2.0
PRODID:-//Talks.cam//talks.cam.ac.uk//
X-WR-CALNAME:Talks.cam
BEGIN:VEVENT
SUMMARY:Women’s Staff Network: Career Conversations - .
DTSTART:20180515T114500Z
DTEND:20180515T123000Z
UID:TALK103663@talks.cam.ac.uk
CONTACT:Equality & Diversity
DESCRIPTION:Join us for the second event profiling the careers and career 
 progression of women at Cambridge. \n\nEach term a panel of female staff f
 rom across the University will describe their career pathways and the oppo
 rtunities and challenges they have faced along the way.\n\nPlease join us 
 for coffee and cake!\n\n*To book your place\, please visit: https://15mayc
 areerconversations.eventbrite.co.uk* \n
LOCATION:B1.19 Potters Room\, Centre for Mathematical Sciences\, Cambridge
  CB3 0WA
END:VEVENT
END:VCALENDAR
