BEGIN:VCALENDAR
VERSION:2.0
PRODID:-//Talks.cam//talks.cam.ac.uk//
X-WR-CALNAME:Talks.cam
BEGIN:VEVENT
SUMMARY:Hormonal control of shoot branching. - Ottoline Leyser Department 
 of Biology  University of York
DTSTART:20080219T130000Z
DTEND:20080219T140000Z
UID:TALK10388@talks.cam.ac.uk
CONTACT:6290
DESCRIPTION:Abstract not available
LOCATION:Biochemistry Lecture Theatre\, Sanger Building
END:VEVENT
END:VCALENDAR
