BEGIN:VCALENDAR
VERSION:2.0
PRODID:-//Talks.cam//talks.cam.ac.uk//
X-WR-CALNAME:Talks.cam
BEGIN:VEVENT
SUMMARY:Title: Stop poisoning Granny! -  Presenter: Tim Burton & Rachel Be
 rry/Emma Bines
DTSTART:20180418T120000Z
DTEND:20180418T123000Z
UID:TALK103924@talks.cam.ac.uk
CONTACT:Vicky Clarke
DESCRIPTION:Specialist Lead: Dr Fraz Mir\n\nLead Consultant: Dr Tim Burton
 \n\nPresenter: Tim Burton & Rachel Berry/Emma Bines\n\nTitle: Stop poisoni
 ng Granny!\n\nSpecialty: Acute Medicine\n
LOCATION:William Harvey Lecture Theatre
END:VEVENT
END:VCALENDAR
