BEGIN:VCALENDAR
VERSION:2.0
PRODID:-//Talks.cam//talks.cam.ac.uk//
X-WR-CALNAME:Talks.cam
BEGIN:VEVENT
SUMMARY:Title: "Pill on a string coupled with endoscopic therapy as a nove
 l approach to oesophageal cancer control" - Presenter: Dr Wladyslaw Janusz
 ewicz 
DTSTART:20180502T120000Z
DTEND:20180502T123000Z
UID:TALK103936@talks.cam.ac.uk
CONTACT:Vicky Clarke
DESCRIPTION:Specialist Lead: Professor Arthur Kaser\n\nLead Consultant: Pr
 ofessor Rebecca Fitzgerald \nDr Di Pietro \n\nPresenter: Dr Wladyslaw Janu
 szewicz \n \nTitle: "Pill on a string coupled with endoscopic therapy as a
  novel approach to oesophageal cancer control"\n\nSpecialty: Gastroenterol
 ogy\n\n
LOCATION:William Harvey Lecture Theatre
END:VEVENT
END:VCALENDAR
