BEGIN:VCALENDAR
VERSION:2.0
PRODID:-//Talks.cam//talks.cam.ac.uk//
X-WR-CALNAME:Talks.cam
BEGIN:VEVENT
SUMMARY:"What new techniques for measuring behaviour would you die for" - 
 Prof. Pat Bateson:  University of Cambridge
DTSTART:20080305T160000Z
DTEND:20080305T170000Z
UID:TALK10394@talks.cam.ac.uk
CONTACT:Lucie Salwiczek
DESCRIPTION:Abstract not available
LOCATION:Library\, Sub-Department of Animal Behaviour\, Madingley
END:VEVENT
END:VCALENDAR
