BEGIN:VCALENDAR
VERSION:2.0
PRODID:-//Talks.cam//talks.cam.ac.uk//
X-WR-CALNAME:Talks.cam
BEGIN:VEVENT
SUMMARY:Title: “When using your abs watch for bow shapes” - Presenter:
  Dr Katherine Sharrocks
DTSTART:20180509T120000Z
DTEND:20180509T123000Z
UID:TALK103942@talks.cam.ac.uk
CONTACT:Vicky Clarke
DESCRIPTION:Specialist Lead: Professor Paul Lehner\n\nLead Consultant: Dr 
 Effrossyni Gkrania-Klotsas\n\nPresenter: Dr Katherine Sharrocks\n\nTitle: 
 “When using your abs watch for bow shapes”\n\nSpecialty: Infectious Di
 seases\n\n
LOCATION:William Harvey Lecture Theatre
END:VEVENT
END:VCALENDAR
