BEGIN:VCALENDAR
VERSION:2.0
PRODID:-//Talks.cam//talks.cam.ac.uk//
X-WR-CALNAME:Talks.cam
BEGIN:VEVENT
SUMMARY:"Isoprene and biofuels: Sensitivity studies in a global chemistry-
 climate model" (Rachel) / "Emissions\, transport and deposition of volcani
 c aerosol in the\ntroposphere" (Jane) - Evgenia Ilyinskaya\, Dept. of Geog
 raphy\, and Rachel Pike\, CAS
DTSTART:20080310T141500Z
DTEND:20080310T151500Z
UID:TALK10448@talks.cam.ac.uk
CONTACT:Paul Young
DESCRIPTION:Ph.D. student talks.
LOCATION:Unilever Lecture Theatre\, Department of Chemistry
END:VEVENT
END:VCALENDAR
