BEGIN:VCALENDAR
VERSION:2.0
PRODID:-//Talks.cam//talks.cam.ac.uk//
X-WR-CALNAME:Talks.cam
BEGIN:VEVENT
SUMMARY:Modelling of Clinical Imaging - Ferdia Gallagher (University of Ca
 mbridge)
DTSTART:20180502T113500Z
DTEND:20180502T114500Z
UID:TALK104725@talks.cam.ac.uk
CONTACT:INI IT
DESCRIPTION:
LOCATION:Seminar Room 1\, Newton Institute
END:VEVENT
END:VCALENDAR
