BEGIN:VCALENDAR
VERSION:2.0
PRODID:-//Talks.cam//talks.cam.ac.uk//
X-WR-CALNAME:Talks.cam
BEGIN:VEVENT
SUMMARY:Learning from Graph-structured Neuroimaging Data - Ira  Ktena  (Im
 perial College London)
DTSTART:20180502T131000Z
DTEND:20180502T133500Z
UID:TALK104764@talks.cam.ac.uk
CONTACT:INI IT
DESCRIPTION:
LOCATION:Seminar Room 1\, Newton Institute
END:VEVENT
END:VCALENDAR
