BEGIN:VCALENDAR
VERSION:2.0
PRODID:-//Talks.cam//talks.cam.ac.uk//
X-WR-CALNAME:Talks.cam
BEGIN:VEVENT
SUMMARY:Serving men\, serving gods:  doctors and musicians in the ancient 
 Greek world - Natacha Massar:  Free University of Brussels
DTSTART:20080205T170000Z
DTEND:20080205T183000Z
UID:TALK10547@talks.cam.ac.uk
DESCRIPTION:Abstract not available
LOCATION:Seminar Room 1\, Department of History and Philosophy of Science\
 , Free School Lane
END:VEVENT
END:VCALENDAR
