BEGIN:VCALENDAR
VERSION:2.0
PRODID:-//Talks.cam//talks.cam.ac.uk//
X-WR-CALNAME:Talks.cam
BEGIN:VEVENT
SUMMARY:IoT Network behaviour and dependency - Poonam Yadav
DTSTART:20180626T121500Z
DTEND:20180626T124500Z
UID:TALK105844@talks.cam.ac.uk
CONTACT:Gemma Gordon
DESCRIPTION:TBC
LOCATION:Computer Laboratory\, William Gates Building\, Room FW11
END:VEVENT
END:VCALENDAR
