BEGIN:VCALENDAR
VERSION:2.0
PRODID:-//Talks.cam//talks.cam.ac.uk//
X-WR-CALNAME:Talks.cam
BEGIN:VEVENT
SUMMARY:Title: Proteinuric\, pregnant\, preterm - Presenter: Thomas Hiemst
 ra
DTSTART:20180606T120000Z
DTEND:20180606T123000Z
UID:TALK106105@talks.cam.ac.uk
CONTACT:Vicky Clarke
DESCRIPTION:Specialist Lead: Professor Ian Wilkinson\n\nLead Consultant: T
 homas Hiemstra\n \nPresenter: Thomas Hiemstra\n\nTitle: Proteinuric\, preg
 nant\, preterm\n\nSpecialty: EMIT Experimental Medicine & Clinical Pharmac
 ology\n
LOCATION:William Harvey Lecture Theatre
END:VEVENT
END:VCALENDAR
