BEGIN:VCALENDAR
VERSION:2.0
PRODID:-//Talks.cam//talks.cam.ac.uk//
X-WR-CALNAME:Talks.cam
BEGIN:VEVENT
SUMMARY: Title: ‘Confusion in a Dragon Boat Racer’ - Presenter: George
  Zachariah
DTSTART:20180620T123000Z
DTEND:20180620T130000Z
UID:TALK106120@talks.cam.ac.uk
CONTACT:Vicky Clarke
DESCRIPTION:Specialist Lead: Dr Hugh Markus\n\nLead Consultant: George Zac
 hariah \n\nPresenter: George Zachariah\n\nTitle: ‘Confusion in a Dragon 
 Boat Racer’\n\nSpecialty: Stroke Medicine\n\n
LOCATION:William Harvey Lecture Theatre
END:VEVENT
END:VCALENDAR
