BEGIN:VCALENDAR
VERSION:2.0
PRODID:-//Talks.cam//talks.cam.ac.uk//
X-WR-CALNAME:Talks.cam
BEGIN:VEVENT
SUMMARY:Investigating directed phase couplings from multivariate EEG/MEG t
 ime series - Alessio Basti\, MRC CBU
DTSTART:20180604T113000Z
DTEND:20180604T123000Z
UID:TALK106399@talks.cam.ac.uk
CONTACT:Johan Carlin
DESCRIPTION:Recent works suggest that the use of bivariate methods to anal
 yse EEG/MEG time series is suboptimal when functional connectivity is the 
 target. Indeed\, the application of dimensionality reduction approaches to
  multivariate time series\, such as parcel signals\, unavoidably leads to 
 discard a large part of the information. In my talk I will present a compu
 tational method called Multivariate Phase Slope Index. This method allows 
 to directly investigate the directionality of functional interactions betw
 een brain regions from multivariate EEG/MEG time series.
LOCATION:Lecture Theatre\, MRC Cognition and Brain Sciences Unit\, 15 Chau
 cer Road\, Cambridge
END:VEVENT
END:VCALENDAR
