BEGIN:VCALENDAR
VERSION:2.0
PRODID:-//Talks.cam//talks.cam.ac.uk//
X-WR-CALNAME:Talks.cam
BEGIN:VEVENT
SUMMARY:GLOW Conference 2018 - Speaker to be confirmed
DTSTART:20180619T090000Z
DTEND:20180618T230000Z
UID:TALK106525@talks.cam.ac.uk
CONTACT:Watu
DESCRIPTION:Theme: Bench to Bedside: An inter-disciplinary approach to mat
 ernal and newborn health\n\nDate: 19 - 20 June 2018 at Murray Edwards Coll
 ege\, Cambridge\n\nThe annual GLOW conference provides an opportunity for 
 academics to share their work\, build collaborations and hear updates from
  prominent international speakers. Please visit our conference website for
  more information http://www.glowconference.org\n\nThere will be a pre-wor
 kshop event: 10 - 12noon\, 19 June.\nThis will be a lively discussion on r
 esearch priorities for maternal & newborn health in LMICs. This interactiv
 e session will include an opportunity to learn about the development of a 
 major new funding strategy for MNH research\, led by the Medical Research 
 Council. This is a free event\, but open to conference attendees only.
LOCATION:Murray Edwards College\, Cambridge CB3 0DF
END:VEVENT
END:VCALENDAR
