BEGIN:VCALENDAR
VERSION:2.0
PRODID:-//Talks.cam//talks.cam.ac.uk//
X-WR-CALNAME:Talks.cam
BEGIN:VEVENT
SUMMARY:Title: 'If at first you don't succeed\, chyle again' - Presenters:
  Tim Rajaratnam & Keshav Sharma
DTSTART:20180530T120000Z
DTEND:20180530T123000Z
UID:TALK106570@talks.cam.ac.uk
CONTACT:Vicky Clarke
DESCRIPTION:Specialist Lead: Dr Frank McCaughan\n\nLead Consultant: Dr Jur
 gen Herre\n\n'If at first you don't succeed\, chyle again'\n\nTim Rajaratn
 am & Keshav Sharma\n
LOCATION:William Harvey Lecture Theatre
END:VEVENT
END:VCALENDAR
