BEGIN:VCALENDAR
VERSION:2.0
PRODID:-//Talks.cam//talks.cam.ac.uk//
X-WR-CALNAME:Talks.cam
BEGIN:VEVENT
SUMMARY:Shrinkage Estimation in Regression with Categories - Benjamin Stok
 ell (Cantab Capital Institute for the Mathematics of Information)
DTSTART:20180524T111000Z
DTEND:20180524T111500Z
UID:TALK107035@talks.cam.ac.uk
CONTACT:INI IT
DESCRIPTION:
LOCATION:Seminar Room 1\, Newton Institute
END:VEVENT
END:VCALENDAR
