BEGIN:VCALENDAR
VERSION:2.0
PRODID:-//Talks.cam//talks.cam.ac.uk//
X-WR-CALNAME:Talks.cam
BEGIN:VEVENT
SUMMARY:Event Triggered Monitoring of Traffic Clusters - Gianni Antichi
DTSTART:20180619T121500Z
DTEND:20180619T124500Z
UID:TALK107383@talks.cam.ac.uk
CONTACT:Gemma Gordon
DESCRIPTION:High level goals such as bandwidth provisioning\, accounting a
 nd network anomaly detection can be easily met if high-volume traffic clus
 ters are detected in real time. This talks presents Elastic Trie: a novel 
 push-based network monitoring approach that allows detection\, within the 
 dataplane\, of high-volume traffic clusters. Notifications from the switch
  to the controller can be sent only as required\, avoiding the transmissio
 n or processing of unnecessary data. 
LOCATION:Computer Laboratory\, William Gates Building\, Room FW11
END:VEVENT
END:VCALENDAR
