BEGIN:VCALENDAR
VERSION:2.0
PRODID:-//Talks.cam//talks.cam.ac.uk//
X-WR-CALNAME:Talks.cam
BEGIN:VEVENT
SUMMARY:“T cell immunity during dengue virus infection” - Laura Rivino
 \, Duke-NUS Medical School\, Singapore 
DTSTART:20180718T120000Z
DTEND:20180718T130000Z
UID:TALK108244@talks.cam.ac.uk
CONTACT:Tammy Dougan
DESCRIPTION:Abstract not available
LOCATION:Patrick Sissons seminar room (Purple seminar room)\, Dept Medicin
 e\, Level 5\, Addenbrookes hospital
END:VEVENT
END:VCALENDAR
