BEGIN:VCALENDAR
VERSION:2.0
PRODID:-//Talks.cam//talks.cam.ac.uk//
X-WR-CALNAME:Talks.cam
BEGIN:VEVENT
SUMMARY:Title:Recovery from Psychosis -  Presenter: Dr Graham Murray
DTSTART:20180926T120000Z
DTEND:20180926T123000Z
UID:TALK108553@talks.cam.ac.uk
CONTACT:Vicky Clarke
DESCRIPTION:Specialist Lead: Dr Graham Murray\n\nLead Consultant: Prof Jes
 us Perez \n\nPresenter: Dr Graham Murray \n\nTitle: Recovery from Psychosi
 s\n\nSpecialty: Psychiatry\n\n
LOCATION:William Harvey Lecture Theatre
END:VEVENT
END:VCALENDAR
