BEGIN:VCALENDAR
VERSION:2.0
PRODID:-//Talks.cam//talks.cam.ac.uk//
X-WR-CALNAME:Talks.cam
BEGIN:VEVENT
SUMMARY:"This isn’t South Africa" – on using the analytical tools of m
 emory studies and transitional justice in Greenland - Astrid Nonbo Anderse
 n (Danish Institute for International Studies) 
DTSTART:20180607T100000Z
DTEND:20180607T113000Z
UID:TALK108595@talks.cam.ac.uk
CONTACT:Morgan Seag
DESCRIPTION:Abstract not available
LOCATION:Scott Polar Research Institute\, Seminar Room
END:VEVENT
END:VCALENDAR
