BEGIN:VCALENDAR
VERSION:2.0
PRODID:-//Talks.cam//talks.cam.ac.uk//
X-WR-CALNAME:Talks.cam
BEGIN:VEVENT
SUMMARY:Can Machines Reason? - Dr Mateja Jamnik\, The Computer Laboratory
DTSTART:20080318T144500Z
DTEND:20080318T151500Z
UID:TALK10861@talks.cam.ac.uk
CONTACT:Liam Garvey
DESCRIPTION:Abstract not available
LOCATION:Queens Building\, Emmanuel College\, Cambridge
END:VEVENT
END:VCALENDAR
