BEGIN:VCALENDAR
VERSION:2.0
PRODID:-//Talks.cam//talks.cam.ac.uk//
X-WR-CALNAME:Talks.cam
BEGIN:VEVENT
SUMMARY:Rapid Climate Change: Lessons from the past to inform the future -
  One day symposium
DTSTART:20080313T093000Z
DTEND:20080313T170000Z
UID:TALK10896@talks.cam.ac.uk
CONTACT:6326
DESCRIPTION:This public meeting follows a three day symposium in Cambridge
  which brings together scientists involved in modelling future climate wit
 h those concerned with interpreting and modelling past climate. It aims to
  discuss the outcomes of the symposium and  will provide a larger forum fo
 r communicating multidisciplinary climate research to a more general audie
 nce.\nFor tickets\, please register your interest at http://www.leverhulme
 climatesymposium.org/page/6/register-interest.htm\n\n
LOCATION:The Royal Society\, 6-9 Carlton House Terrace\, London SW1Y 5AG
END:VEVENT
END:VCALENDAR
