BEGIN:VCALENDAR
VERSION:2.0
PRODID:-//Talks.cam//talks.cam.ac.uk//
X-WR-CALNAME:Talks.cam
BEGIN:VEVENT
SUMMARY:Homotopy (Pre-)Derivators of Cofibration Categories and Quasi-Cate
 gories - Tobias Lenz (Rheinische Friedrich-Wilhelms-Universität Bonn\; Ma
 x-Planck-Institut für Mathematik\, Bonn)
DTSTART:20180823T150000Z
DTEND:20180823T151500Z
UID:TALK109210@talks.cam.ac.uk
CONTACT:INI IT
DESCRIPTION:
LOCATION:Seminar Room 2\, Newton Institute
END:VEVENT
END:VCALENDAR
