BEGIN:VCALENDAR
VERSION:2.0
PRODID:-//Talks.cam//talks.cam.ac.uk//
X-WR-CALNAME:Talks.cam
BEGIN:VEVENT
SUMMARY:Generalised Tutte polynomials - Farr\, G (Monash)
DTSTART:20080214T160000Z
DTEND:20080214T170000Z
UID:TALK10932@talks.cam.ac.uk
CONTACT:Mustapha Amrani
DESCRIPTION:
LOCATION:Seminar Room2\, Newton Institute Gatehouse
END:VEVENT
END:VCALENDAR
