BEGIN:VCALENDAR
VERSION:2.0
PRODID:-//Talks.cam//talks.cam.ac.uk//
X-WR-CALNAME:Talks.cam
BEGIN:VEVENT
SUMMARY:Arm Research: Programs\, Collaboration & Enablement\, Education - 
 Stuart Biles\, ARM
DTSTART:20180927T153000Z
DTEND:20180927T163000Z
UID:TALK109963@talks.cam.ac.uk
CONTACT:72259
DESCRIPTION:Stuart Biles is Fellow and Director of Research Technology at 
 Arm Research\, based in Cambridge. His background is in Electronics & Comp
 uter Science\, initially working in Arm’s processor design group. His in
 terests include processor architecture and implementation and currently ha
 s a remit to drive the technical agenda for the group.\n\nHe will give an 
 overview of Arm’s business and will outline the different parts of Arm R
 esearch\, where the group's interests are and give some details on current
  activities.\n\n***********\n\nRegistration is essential: https://bit.ly/2
 NUXetM
LOCATION:Maxwell Centre\, JJ Thomson Avenue
END:VEVENT
END:VCALENDAR
