BEGIN:VCALENDAR
VERSION:2.0
PRODID:-//Talks.cam//talks.cam.ac.uk//
X-WR-CALNAME:Talks.cam
BEGIN:VEVENT
SUMMARY:Topological Hochschild homology via generalized Thom spectra - Chr
 istian Schlichtkrull (Universitetet i Bergen)
DTSTART:20180918T130000Z
DTEND:20180918T140000Z
UID:TALK110200@talks.cam.ac.uk
CONTACT:INI IT
DESCRIPTION:We realize certain quotient spectra of an even ring spectrum a
 s generalized Thom spectra and we use this to calculate their topological 
 Hochschild homology. The main point is to analyze how the topological Hoch
 schild homology varies with different choices of multiplicative structure 
 on the quotient spectra. We also compare the topological Hochschild homolo
 gy to twisted homology of free loop spaces. This represents joint work wit
 h Samik Basu.
LOCATION:Seminar Room 2\, Newton Institute
END:VEVENT
END:VCALENDAR
