BEGIN:VCALENDAR
VERSION:2.0
PRODID:-//Talks.cam//talks.cam.ac.uk//
X-WR-CALNAME:Talks.cam
BEGIN:VEVENT
SUMMARY:Monitoring single ion transporters at work: proton-driven rotation
  in FoF1-ATP synthase and domain swapping in P-type ATPase - Dr Michael B
 örsch  University of Stuttgart\, Germany
DTSTART:20080304T150000Z
DTEND:20080304T160000Z
UID:TALK11038@talks.cam.ac.uk
CONTACT:Duncan Simpson
DESCRIPTION:Monitoring single ion transporters at work: proton-driven rota
 tion in FoF1-ATP synthase and domain swapping in P-type ATPase \nDr Michae
 l Börsch  University of Stuttgart\, Germany \nTue\, 4 March\, 2008 3:00 p
 m Lecture Theatre\, Level 7\, MRC/CIMR Building\nMRC Dunn Human Nutrition 
 Unit\nhttp://www.mrc-dunn.cam.ac.uk/news/seminars.php\n\n
LOCATION:Sackler Lecture Theatre (Level 7)\, Cambridge Institute for Medic
 al Research
END:VEVENT
END:VCALENDAR
