BEGIN:VCALENDAR
VERSION:2.0
PRODID:-//Talks.cam//talks.cam.ac.uk//
X-WR-CALNAME:Talks.cam
BEGIN:VEVENT
SUMMARY:Brown-Comenetz dual of some K(2)-local spectrum - Viet-Cuong Pham 
 (University of Strasbourg)
DTSTART:20180920T144500Z
DTEND:20180920T150000Z
UID:TALK110536@talks.cam.ac.uk
CONTACT:INI IT
DESCRIPTION:
LOCATION:Seminar Room 2\, Newton Institute
END:VEVENT
END:VCALENDAR
