BEGIN:VCALENDAR
VERSION:2.0
PRODID:-//Talks.cam//talks.cam.ac.uk//
X-WR-CALNAME:Talks.cam
BEGIN:VEVENT
SUMMARY:Preserve the old\, but know the new - Dr Ann Prentice\, Medical Re
 search Council
DTSTART:20080311T180000Z
DTEND:20080311T190000Z
UID:TALK11056@talks.cam.ac.uk
CONTACT:Nicola Buckley
DESCRIPTION:Osteoporosis in older people is a worldwide problem. Dr Ann Pr
 entice from the Medical Research Council Human Nutrition Unit will discuss
  how new research work in Cambridge\, China and The Gambia helps to unders
 tand links between nutrition\, lifestyle and bone health.
LOCATION:University Centre\, Mill Lane\, cambridge
END:VEVENT
END:VCALENDAR
