BEGIN:VCALENDAR
VERSION:2.0
PRODID:-//Talks.cam//talks.cam.ac.uk//
X-WR-CALNAME:Talks.cam
BEGIN:VEVENT
SUMMARY:C++ (part 1) - Introduction. - Tim Love (University of Cambridge)
DTSTART:20181019T140000Z
DTEND:20181019T150000Z
UID:TALK110722@talks.cam.ac.uk
CONTACT:Tim Love
DESCRIPTION:See "C++ course information":http://www-h.eng.cam.ac.uk/help/t
 pl/talks/C++course/
LOCATION:LR3\, Engineering\, Department of
END:VEVENT
END:VCALENDAR
