BEGIN:VCALENDAR
VERSION:2.0
PRODID:-//Talks.cam//talks.cam.ac.uk//
X-WR-CALNAME:Talks.cam
BEGIN:VEVENT
SUMMARY:Revision control with git - Tim Love (University of Cambridge)
DTSTART:20181123T150000Z
DTEND:20181123T160000Z
UID:TALK110737@talks.cam.ac.uk
CONTACT:Tim Love
DESCRIPTION:Just the basics
LOCATION:LR3\, Engineering\, Department of
END:VEVENT
END:VCALENDAR
