BEGIN:VCALENDAR
VERSION:2.0
PRODID:-//Talks.cam//talks.cam.ac.uk//
X-WR-CALNAME:Talks.cam
BEGIN:VEVENT
SUMMARY:CILR workshop: Forensic Linguistics - Jim Fitzgerald (ex-FBI)\, Fr
 ancis Nolan\, Katrin Müller-Johnson\, Luna Filipovic
DTSTART:20080415T090000Z
DTEND:20080415T170000Z
UID:TALK11120@talks.cam.ac.uk
CONTACT:Gea de Jong
DESCRIPTION:Abstract not available
LOCATION:English Faculty Lecture Room GR-06/07
END:VEVENT
END:VCALENDAR
