BEGIN:VCALENDAR
VERSION:2.0
PRODID:-//Talks.cam//talks.cam.ac.uk//
X-WR-CALNAME:Talks.cam
BEGIN:VEVENT
SUMMARY:CAMSoc lecture - "Joining Ceramic Materials - Can it be that diffi
 cult?" - Professor Robin Drew
DTSTART:20080311T193000Z
DTEND:20080311T203000Z
UID:TALK11137@talks.cam.ac.uk
CONTACT:Duncan Simpson
DESCRIPTION:Tuesday 11th March\n\n7:30pm\nT001  CAMSoc lecture - "Joining 
 Ceramic Materials - Can it be that difficult?" \n\nThe next CAMSoc lecture
  will take place on Tuesday 11th March here in the Department of Materials
  Science and Metallurgy. The presentation will be given by Professor Robin
  Drew and will be entitled "Joining Ceramic Materials - Can it be that dif
 ficult?" \n\nAs usual\, the lecture will take place in T001 at 7.30pm and 
 refreshments will be available in the Tea Room from 7.00pm. \n\nAll are we
 lcome to attend. We look forward to seeing you on that evening. \n\nSerena
   \nMaterials Science and Metallurgy \n\nhttp://www.msm.cam.ac.uk/events/i
 ndex.php
LOCATION:T001 [Tower Seminar Room]\, Materials Science and Metallurgy\, De
 partment of
END:VEVENT
END:VCALENDAR
