BEGIN:VCALENDAR
VERSION:2.0
PRODID:-//Talks.cam//talks.cam.ac.uk//
X-WR-CALNAME:Talks.cam
BEGIN:VEVENT
SUMMARY:The aviation heritage of East Anglia - Terry Holloway - Marshall's
  of Cambridge
DTSTART:20080315T140000Z
DTEND:20080315T144500Z
UID:TALK11152@talks.cam.ac.uk
CONTACT:Simon Briggs
DESCRIPTION:2008 is the centenary of the first controlled flight by a ‘h
 eavier than air’ machine in Great Britain. Terry Holloway\, pilot\, avia
 tion historian and Group Support Executive at Marshall of Cambridge will b
 e examining East Anglia’s rich aviation heritage over the last 100 years
 .
LOCATION:Arts School Room A\, New Museums Site
END:VEVENT
END:VCALENDAR
